BEGIN:VCALENDAR
VERSION:2.0
PRODID:icalendar-ruby
CALSCALE:GREGORIAN
BEGIN:VEVENT
DTSTAMP:20210121T175444Z
UID:71a6cd11-0b1c-4537-9118-d8049b8ac0be
DTSTART;VALUE=DATE:20200325
DESCRIPTION:Property ID# 474671\, Time: 4:00PM
SUMMARY:Auction for 
END:VEVENT
END:VCALENDAR
