BEGIN:VCALENDAR
VERSION:2.0
PRODID:icalendar-ruby
CALSCALE:GREGORIAN
BEGIN:VEVENT
DTSTAMP:20210121T175513Z
UID:99d2e694-84b7-4d86-9b27-e6cbd64d9a6c
DTSTART;VALUE=DATE:20201025
DESCRIPTION:Property ID# 490976\, Time: 2:00PM
SUMMARY:Auction for 
END:VEVENT
END:VCALENDAR
