BEGIN:VCALENDAR
VERSION:2.0
PRODID:icalendar-ruby
CALSCALE:GREGORIAN
BEGIN:VEVENT
DTSTAMP:20210121T175512Z
UID:76e3fe21-c404-49fa-a1d3-b397c32e92ca
DTSTART;VALUE=DATE:20201018
DESCRIPTION:Property ID# 491552\, Time: 3:00PM
SUMMARY:Auction for 
END:VEVENT
END:VCALENDAR
