BEGIN:VCALENDAR
VERSION:2.0
PRODID:icalendar-ruby
CALSCALE:GREGORIAN
BEGIN:VEVENT
DTSTAMP:20210121T175509Z
UID:4fc235cb-2281-4e1c-a33e-9133fbb4086f
DTSTART;VALUE=DATE:20201101
DESCRIPTION:Property ID# 491555\, Time: 12:00PM
SUMMARY:Auction for 
END:VEVENT
END:VCALENDAR
