BEGIN:VCALENDAR
VERSION:2.0
PRODID:icalendar-ruby
CALSCALE:GREGORIAN
BEGIN:VEVENT
DTSTAMP:20210121T175504Z
UID:21999e95-f227-4474-b884-b7b356be8eda
DTSTART;VALUE=DATE:20201107
DESCRIPTION:Property ID# 492641\, Time: 12:00PM
SUMMARY:Auction for 
END:VEVENT
END:VCALENDAR
