BEGIN:VCALENDAR
VERSION:2.0
PRODID:icalendar-ruby
CALSCALE:GREGORIAN
BEGIN:VEVENT
DTSTAMP:20210121T175503Z
UID:c160cf54-bc5a-487b-b4a3-272fb330e95a
DTSTART;VALUE=DATE:20201122
DESCRIPTION:Property ID# 494252\, Time: 3:00PM
SUMMARY:Auction for 
END:VEVENT
END:VCALENDAR
