BEGIN:VCALENDAR
VERSION:2.0
PRODID:icalendar-ruby
CALSCALE:GREGORIAN
BEGIN:VEVENT
DTSTAMP:20210121T174526Z
UID:063e2242-33bf-4c72-a517-3820bc964d1a
DTSTART;VALUE=DATE:20210121
DESCRIPTION:Property ID# 499056\, Locatoin: 72 Ruapehu Street\, Taupo (Soth
 ebys office)\, Time: 12:00PM
SUMMARY:Auction for 87 Victory Drive
END:VEVENT
END:VCALENDAR
