BEGIN:VCALENDAR
VERSION:2.0
PRODID:icalendar-ruby
CALSCALE:GREGORIAN
BEGIN:VEVENT
DTSTAMP:20210121T175457Z
UID:7141e895-c9d8-4f74-b729-7c2254e4c017
DTSTART;VALUE=DATE:20210214
DESCRIPTION:Property ID# 500226\, Time: 12:00PM
SUMMARY:Auction for 49 Chateau Crescent
END:VEVENT
END:VCALENDAR
