BEGIN:VCALENDAR
VERSION:2.0
PRODID:icalendar-ruby
CALSCALE:GREGORIAN
BEGIN:VEVENT
DTSTAMP:20210121T175454Z
UID:3c79a3dd-996c-4a31-a7f9-90fb9e3d6740
DTSTART;TZID=Pacific/Auckland:20210124T123000
DTEND;TZID=Pacific/Auckland:20210124T130000
DESCRIPTION:Property ID# 500226
SUMMARY:Openhome for 49 Chateau Crescent
END:VEVENT
END:VCALENDAR
