BEGIN:VCALENDAR
VERSION:2.0
PRODID:icalendar-ruby
CALSCALE:GREGORIAN
BEGIN:VEVENT
DTSTAMP:20260420T115507Z
UID:617b0e1e-6201-4cb1-9a9e-1168c418318f
DTSTART;VALUE=DATE:20260507
DESCRIPTION:Property ID# 606452\, Time: 12:00PM
SUMMARY:Auction for 14 Taharepa Road
END:VEVENT
END:VCALENDAR
